BEGIN:VCALENDAR
VERSION:2.0
PRODID:-//ChamberMaster//Event Calendar 2.0//EN
METHOD:PUBLISH
X-PUBLISHED-TTL:P3D
REFRESH-INTERVAL:P3D
CALSCALE:GREGORIAN
BEGIN:VEVENT
DTSTART:20200508T150000Z
DTEND:20200508T160000Z
X-MICROSOFT-CDO-ALLDAYEVENT:FALSE
SUMMARY:Payroll Protection Program Compliance - Maximizing Loan Forgiveness
DESCRIPTION:Avoid Mistakes that Could Cost You Big!\nHave you applied for or received Payroll Protection Program (PPP) funds through the Coronavirus Aid Relief Economic Security (CARES) Act?\n\nWe'll cover the steps you need to take in order to maximize loan forgiveness.\n\n\n\nPresented by Delaware Business Times\, The Small Business Adminstration and Delaware's Small Business Development Center
X-ALT-DESC;FMTTYPE=text/html:<h2 align="center" style="margin-bottom:.0001pt\;text-align:center\;line-height:150%\;"><span style="color:#D9222E\;"><span style="font-family:arial\,sans-serif\;"><span style="font-size:13.5pt\;">Avoid Mistakes that Could Cost You Big!</span></span></span></h2>\n<span style="color:#444444\;"><span style="font-family:arial\,sans-serif\;"><span style="font-size:11.5pt\;">Have you applied for or received Payroll Protection Program (PPP) funds through the Coronavirus Aid Relief Economic Security (CARES) Act?</span></span></span><br />\n<span style="color:#444444\;"><span style="font-family:arial\,sans-serif\;"><span style="font-size:11.5pt\;">We&#39\;ll cover the steps you need to take in order to maximize loan forgiveness.<br />\n<br />\nPresented by Delaware Business Times\, The Small Business Adminstration and Delaware&#39\;s Small Business Development Center</span></span></span>
LOCATION:Via Webinar Register Here
UID:e.2126.21518
SEQUENCE:3
DTSTAMP:20260420T044949Z
URL:http://bethanyfenwick.chambermaster.com/events/details/payroll-protection-program-compliance-maximizing-loan-forgiveness-21518
END:VEVENT

END:VCALENDAR
